BEGIN:VCALENDAR
VERSION:2.0
PRODID:-//ChamberMaster//Event Calendar 2.0//EN
METHOD:PUBLISH
X-PUBLISHED-TTL:P3D
REFRESH-INTERVAL:P3D
CALSCALE:GREGORIAN
BEGIN:VEVENT
DTSTART:20260404T220000Z
DTEND:20260405T000000Z
X-MICROSOFT-CDO-ALLDAYEVENT:FALSE
SUMMARY:Noah Spencer in Concert
DESCRIPTION:Join the Bower Center for the Arts as we present Noah Spencer in Concert on Saturday\, April 4 from 6-8 PM. Noah Spencer is a singer and songwriter from Richlands\, VA. He plays his own original music\, as well as a wide variety of covers from different eras and genres. He was recently seen on season 24 of NBC's "The Voice"\, and has been writing music and performing live since he was 15 years old. \n\n\n\nSocial media links- Facebook/Tiktok/Instagram - @noahspencersmusic\n\n\n\nBower Center for the Arts is fully handicap accessible\, ensuring an inclusive and welcoming experience for all visitors.
X-ALT-DESC;FMTTYPE=text/html:Join the Bower Center for the Arts as we present Noah Spencer in Concert on Saturday\, April 4 from 6-8 PM.&nbsp\;Noah Spencer is a singer and songwriter from Richlands\, VA. He plays his own original music\, as well as a wide variety of covers from different eras and genres. He was recently seen on season 24 of NBC&rsquo\;s &ldquo\;The Voice&rdquo\;\, and has been writing music and performing live since he was 15 years old.&nbsp\;<br />\n<br />\nSocial media links- Facebook/Tiktok/Instagram - @noahspencersmusic<br />\n<br />\nBower Center for the Arts is fully handicap accessible\, ensuring an inclusive and welcoming experience for all visitors.
LOCATION:Bower Center for the Arts 305 N. Bridge Street Bedford\, VA 24523
UID:e.1335.21689
SEQUENCE:3
DTSTAMP:20260422T220337Z
URL:http://bedfordaurora.preview.gochambermaster.com/events/details/noah-spencer-in-concert-21689
END:VEVENT

END:VCALENDAR
